BEGIN:VCALENDAR
VERSION:2.0
PRODID:-//Water Wrights - ECPv5.16.4//NONSGML v1.0//EN
CALSCALE:GREGORIAN
METHOD:PUBLISH
X-WR-CALNAME:Water Wrights
X-ORIGINAL-URL:https://waterwrights.net
X-WR-CALDESC:Events for Water Wrights
BEGIN:VTIMEZONE
TZID:America/Los_Angeles
BEGIN:DAYLIGHT
TZOFFSETFROM:-0800
TZOFFSETTO:-0700
TZNAME:PDT
DTSTART:20240310T100000
END:DAYLIGHT
BEGIN:STANDARD
TZOFFSETFROM:-0700
TZOFFSETTO:-0800
TZNAME:PST
DTSTART:20241103T090000
END:STANDARD
END:VTIMEZONE
BEGIN:VEVENT
DTSTART;TZID=America/Los_Angeles:20240605T140000
DTEND;TZID=America/Los_Angeles:20240605T170000
DTSTAMP:20260421T011602
CREATED:20240604T061804Z
LAST-MODIFIED:20240604T061804Z
UID:26714-1717596000-1717606800@waterwrights.net
SUMMARY:McMullin Area GSA 2PM
DESCRIPTION:MCMULLIN AREA GROUNDWATER\nSUSTAINABILITY AGENCY\nBOARD OF DIRECTORS\nREGULAR MEETING\nJune 5\, 2024
URL:https://waterwrights.net/event/mcmullin-area-gsa-2pm-13/
LOCATION:Mcmullin area gsa\, 15101 Kearney Blvd\, Kerman\, CA\, 93630\, United States
END:VEVENT
END:VCALENDAR