BEGIN:VCALENDAR
VERSION:2.0
PRODID:-//Water Wrights - ECPv5.16.4//NONSGML v1.0//EN
CALSCALE:GREGORIAN
METHOD:PUBLISH
X-WR-CALNAME:Water Wrights
X-ORIGINAL-URL:https://waterwrights.net
X-WR-CALDESC:Events for Water Wrights
BEGIN:VTIMEZONE
TZID:America/Los_Angeles
BEGIN:DAYLIGHT
TZOFFSETFROM:-0800
TZOFFSETTO:-0700
TZNAME:PDT
DTSTART:20240310T100000
END:DAYLIGHT
BEGIN:STANDARD
TZOFFSETFROM:-0700
TZOFFSETTO:-0800
TZNAME:PST
DTSTART:20241103T090000
END:STANDARD
END:VTIMEZONE
BEGIN:VEVENT
DTSTART;TZID=America/Los_Angeles:20240611T080000
DTEND;TZID=America/Los_Angeles:20240611T100000
DTSTAMP:20260421T030503
CREATED:20240602T063427Z
LAST-MODIFIED:20240602T063427Z
UID:26656-1718092800-1718100000@waterwrights.net
SUMMARY:Rosedale Rio Bravo WSD 8AM
DESCRIPTION:2nd Tuesday 8am
URL:https://waterwrights.net/event/rosedale-rio-bravo-wsd-8am-13/
LOCATION:Rosedale Rio Bravo WSD\, 849 Allen Road\, Bakersfield\, California\, 93314
END:VEVENT
BEGIN:VEVENT
DTSTART;TZID=America/Los_Angeles:20240611T090000
DTEND;TZID=America/Los_Angeles:20240611T110000
DTSTAMP:20260421T030503
CREATED:20240602T061154Z
LAST-MODIFIED:20240602T061154Z
UID:26625-1718096400-1718103600@waterwrights.net
SUMMARY:Corcoran ID 9AM
DESCRIPTION:2nd Tuesday 9am
URL:https://waterwrights.net/event/corcoran-id-9am-13/
LOCATION:1150 6 1/2 Ave Corcoran CA 93212\, 1150 6 1/2 Ave\, corcoran\, CA\, 93212\, United States
END:VEVENT
BEGIN:VEVENT
DTSTART;TZID=America/Los_Angeles:20240611T090000
DTEND;TZID=America/Los_Angeles:20240611T110000
DTSTAMP:20260421T030503
CREATED:20240602T061654Z
LAST-MODIFIED:20240602T061654Z
UID:26629-1718096400-1718103600@waterwrights.net
SUMMARY:Tulare ID 9AM
DESCRIPTION:2nd Tuesday 9am
URL:https://waterwrights.net/event/tulare-id-9am-26/
LOCATION:Tulare ID\, 6826 Avenue 240\, Tulare\, California\, 93274
END:VEVENT
BEGIN:VEVENT
DTSTART;TZID=America/Los_Angeles:20240611T090000
DTEND;TZID=America/Los_Angeles:20240611T110000
DTSTAMP:20260421T030503
CREATED:20240602T062138Z
LAST-MODIFIED:20240602T062138Z
UID:26637-1718096400-1718103600@waterwrights.net
SUMMARY:Lower Tule River ID 9AM
DESCRIPTION:2nd Tuesday 9am
URL:https://waterwrights.net/event/lower-tule-river-id-9am-22/
LOCATION:Lower Tule River ID\, 357 East Olive Ave\, Tipton\, California\, 93272
END:VEVENT
BEGIN:VEVENT
DTSTART;TZID=America/Los_Angeles:20240611T090000
DTEND;TZID=America/Los_Angeles:20240611T110000
DTSTAMP:20260421T030503
CREATED:20240602T062303Z
LAST-MODIFIED:20240602T062303Z
UID:26639-1718096400-1718103600@waterwrights.net
SUMMARY:Porterville ID 9AM
DESCRIPTION:2nd Tuesday 9am
URL:https://waterwrights.net/event/porterville-id-9am-22/
LOCATION:California
END:VEVENT
BEGIN:VEVENT
DTSTART;TZID=America/Los_Angeles:20240611T090000
DTEND;TZID=America/Los_Angeles:20240611T110000
DTSTAMP:20260421T030503
CREATED:20240604T053833Z
LAST-MODIFIED:20240604T053833Z
UID:26684-1718096400-1718103600@waterwrights.net
SUMMARY:Modesto ID 9AM
DESCRIPTION:2nd Tuesday 9am
URL:https://waterwrights.net/event/modesto-id-9am-17/
LOCATION:Modesto ID\, 1231 11 Street\, Modesto\, California\, 95354
END:VEVENT
BEGIN:VEVENT
DTSTART;TZID=America/Los_Angeles:20240611T090000
DTEND;TZID=America/Los_Angeles:20240611T110000
DTSTAMP:20260421T030503
CREATED:20240610T044227Z
LAST-MODIFIED:20240610T044227Z
UID:26745-1718096400-1718103600@waterwrights.net
SUMMARY:South of Kern River GSP 9AM
DESCRIPTION:The June SOKR Executive Committee meeting has been cancelled. The next meeting will be held Thursday\, July 11\, at 9:00 a.m.
URL:https://waterwrights.net/event/south-of-kern-river-gsp-9am/
LOCATION:Water Storage District  12109 Highway 166 Bakersfield\, CA 93313\, Water storage district 12109 Highway 166\, Bakersfield\, CA\, 93313\, United States
END:VEVENT
BEGIN:VEVENT
DTSTART;TZID=America/Los_Angeles:20240611T090000
DTEND;TZID=America/Los_Angeles:20240611T110000
DTSTAMP:20260421T030503
CREATED:20240610T051028Z
LAST-MODIFIED:20240610T051028Z
UID:26754-1718096400-1718103600@waterwrights.net
SUMMARY:Modesto ID 9AM
DESCRIPTION:Modesto Irrigation district \nRegular board meeting \n9AM
URL:https://waterwrights.net/event/modesto-id-9am-18/
LOCATION:Modesto ID\, 1231 11 Street\, Modesto\, California\, 95354
END:VEVENT
BEGIN:VEVENT
DTSTART;TZID=America/Los_Angeles:20240611T093000
DTEND;TZID=America/Los_Angeles:20240611T113000
DTSTAMP:20260421T030503
CREATED:20240604T054203Z
LAST-MODIFIED:20240604T054203Z
UID:26688-1718098200-1718105400@waterwrights.net
SUMMARY:Central Delta WA 9:30AM
DESCRIPTION:2nd Tuesday 9:30am
URL:https://waterwrights.net/event/central-delta-wa-930am-13/
LOCATION:Central Delta WA\, 235 E Weber\, Stockton\, CA\, 95202\, United States
END:VEVENT
BEGIN:VEVENT
DTSTART;TZID=America/Los_Angeles:20240611T100000
DTEND;TZID=America/Los_Angeles:20240611T120000
DTSTAMP:20260421T030503
CREATED:20240602T055415Z
LAST-MODIFIED:20240602T055415Z
UID:26613-1718100000-1718107200@waterwrights.net
SUMMARY:James ID 10AM
DESCRIPTION:2nd Tuesday 10am
URL:https://waterwrights.net/event/james-id-10am-14/
LOCATION:James ID\, 8749 ninth street\, san joaquin\, CA\, 93660\, United States
END:VEVENT
BEGIN:VEVENT
DTSTART;TZID=America/Los_Angeles:20240611T120000
DTEND;TZID=America/Los_Angeles:20240611T140000
DTSTAMP:20260421T030503
CREATED:20240602T063724Z
LAST-MODIFIED:20240602T063724Z
UID:26660-1718107200-1718114400@waterwrights.net
SUMMARY:Arvin Edison WSD 12PM
DESCRIPTION:2nd Tuesday Noon
URL:https://waterwrights.net/event/arvin-edison-wsd-12pm-12/
LOCATION:Arvin Edison WSD\, 20401 Bear Mountain Blvd\, Arvin\, California\, 93203
END:VEVENT
BEGIN:VEVENT
DTSTART;TZID=America/Los_Angeles:20240611T130000
DTEND;TZID=America/Los_Angeles:20240611T150000
DTSTAMP:20260421T030503
CREATED:20240604T060620Z
LAST-MODIFIED:20240604T060620Z
UID:26707-1718110800-1718118000@waterwrights.net
SUMMARY:Mid Kings River GSA 1PM
DESCRIPTION:2nd Tuesday 1pm
URL:https://waterwrights.net/event/mid-kings-river-gsa-1pm-16/
LOCATION:Mid Kings River GSA\, 200 Campus Dr.\, Hanford\, CA\, 93230\, United States
END:VEVENT
BEGIN:VEVENT
DTSTART;TZID=America/Los_Angeles:20240611T130000
DTEND;TZID=America/Los_Angeles:20240611T150000
DTSTAMP:20260421T030503
CREATED:20240604T060706Z
LAST-MODIFIED:20240604T060706Z
UID:26709-1718110800-1718118000@waterwrights.net
SUMMARY:El Rico GSA 1PM
DESCRIPTION:2nd Tuesday 1pm
URL:https://waterwrights.net/event/el-rico-gsa-1pm-17/
LOCATION:El Rico GSA\, 1001 Chase Avenue\,\, Corcoran\, California\, 93212
END:VEVENT
BEGIN:VEVENT
DTSTART;TZID=America/Los_Angeles:20240611T133000
DTEND;TZID=America/Los_Angeles:20240611T153000
DTSTAMP:20260421T030503
CREATED:20240602T062011Z
LAST-MODIFIED:20240602T062011Z
UID:26635-1718112600-1718119800@waterwrights.net
SUMMARY:Lindsay Strathmore ID 1:30PM
DESCRIPTION:2nd Tuesday 1:30pm
URL:https://waterwrights.net/event/lindsay-strathmore-id-130pm-14/
LOCATION:Lindsay Strathmore ID\, 23260 Round vally Road\, Lindsay\, CA\, 93247\, United States
END:VEVENT
BEGIN:VEVENT
DTSTART;TZID=America/Los_Angeles:20240611T140000
DTEND;TZID=America/Los_Angeles:20240611T160000
DTSTAMP:20260421T030503
CREATED:20240602T061904Z
LAST-MODIFIED:20240602T061904Z
UID:26633-1718114400-1718121600@waterwrights.net
SUMMARY:Lindmore ID 2PM
DESCRIPTION:2nd Tuesday 2pm
URL:https://waterwrights.net/event/lindmore-id-2pm-14/
LOCATION:Lindmore ID\, 315 E. Lindmore Street\, Lindsay\, California\, 93247
END:VEVENT
BEGIN:VEVENT
DTSTART;TZID=America/Los_Angeles:20240611T150000
DTEND;TZID=America/Los_Angeles:20240611T170000
DTSTAMP:20260421T030503
CREATED:20240604T055846Z
LAST-MODIFIED:20240610T051207Z
UID:26705-1718118000-1718125200@waterwrights.net
SUMMARY:Mid Kaweah GSA 3PM Cancelled
DESCRIPTION:2nd Tuesday 3pm
URL:https://waterwrights.net/event/mid-kaweah-gsa-3pm-26/
LOCATION:Mid Kaweah GSA\, 491 North M Street\, tulare\, CA\, 93274\, United States
END:VEVENT
BEGIN:VEVENT
DTSTART;TZID=America/Los_Angeles:20240611T150000
DTEND;TZID=America/Los_Angeles:20240611T170000
DTSTAMP:20260421T030503
CREATED:20240610T044727Z
LAST-MODIFIED:20240610T044727Z
UID:26747-1718118000-1718125200@waterwrights.net
SUMMARY:Fresno ID Special Board 3PM
DESCRIPTION:Fresno Irrigation District Board of Equalization \nMeeting – June 11\, 2024 \nFresno Irrigation District Office\n2907 S. Maple Avenue\nFresno\, CA 93725
URL:https://waterwrights.net/event/fresno-id-special-board-3pm/
LOCATION:Fresno Irrigation District\, 2097 S. Mapel Ave\, Fresno\, California\, 93725
END:VEVENT
BEGIN:VEVENT
DTSTART;TZID=America/Los_Angeles:20240611T153000
DTEND;TZID=America/Los_Angeles:20240611T173000
DTSTAMP:20260421T030504
CREATED:20240610T045534Z
LAST-MODIFIED:20240610T045534Z
UID:26752-1718119800-1718127000@waterwrights.net
SUMMARY:Kern Water Bank 3:30PM
DESCRIPTION:Regular Meeting of Board of Directors\nTuesday\, June 11\, 2024\, 3:30 P.M. i\nKern Water Bank Authority Conference Room\n1620 Mill Rock Way\, Suite 500\, Bakersfield\, California
URL:https://waterwrights.net/event/kern-water-bank-330pm/
LOCATION:Kern Water Bank\, 1620 Mill Rock Way\, Ste 500\, Bakersfield\, California\, 93311
END:VEVENT
END:VCALENDAR